BEGIN:VCALENDAR
VERSION:2.0
PRODID:-//The British Phycological Society - ECPv6.15.20//NONSGML v1.0//EN
CALSCALE:GREGORIAN
METHOD:PUBLISH
X-WR-CALNAME:The British Phycological Society
X-ORIGINAL-URL:https://brphycsoc.org
X-WR-CALDESC:Events for The British Phycological Society
REFRESH-INTERVAL;VALUE=DURATION:PT1H
X-Robots-Tag:noindex
X-PUBLISHED-TTL:PT1H
BEGIN:VTIMEZONE
TZID:Europe/London
BEGIN:DAYLIGHT
TZOFFSETFROM:+0000
TZOFFSETTO:+0100
TZNAME:BST
DTSTART:20210328T010000
END:DAYLIGHT
BEGIN:STANDARD
TZOFFSETFROM:+0100
TZOFFSETTO:+0000
TZNAME:GMT
DTSTART:20211031T010000
END:STANDARD
BEGIN:DAYLIGHT
TZOFFSETFROM:+0000
TZOFFSETTO:+0100
TZNAME:BST
DTSTART:20220327T010000
END:DAYLIGHT
BEGIN:STANDARD
TZOFFSETFROM:+0100
TZOFFSETTO:+0000
TZNAME:GMT
DTSTART:20221030T010000
END:STANDARD
BEGIN:DAYLIGHT
TZOFFSETFROM:+0000
TZOFFSETTO:+0100
TZNAME:BST
DTSTART:20230326T010000
END:DAYLIGHT
BEGIN:STANDARD
TZOFFSETFROM:+0100
TZOFFSETTO:+0000
TZNAME:GMT
DTSTART:20231029T010000
END:STANDARD
END:VTIMEZONE
BEGIN:VEVENT
DTSTART;TZID=Europe/London:20220104T080000
DTEND;TZID=Europe/London:20220107T170000
DTSTAMP:20260422T023857
CREATED:20211010T153733Z
LAST-MODIFIED:20211010T155010Z
UID:56366-1641283200-1641574800@brphycsoc.org
SUMMARY:70th Annual Meeting of the British Phycological Society
DESCRIPTION:Swansea University\, UK\n\n\n\nAs usual\, the annual meeting will be packed with the latest advances in phycological research and provide an outlet for research across the whole spectrum of algal research topics. Through the special theme of ‘Harnessing algal solutions towards a sustainable future’ we will explore blue carbon\, food systems\, and sustainable industrial applications. \n\n\n\nAs a first for the BPS annual meeting\, we’re pleased to be able to offer both in person and online attendance options\, which we hope will provide flexible\, sustainable\, and access-enhancing alternatives. On this website we hope you’ll find all you need to get excited\, registered\, and prepared for the meeting. We are looking forward to seeing you – in person or virtually  –  on the Welsh Riviera in January.  \n\n\n\nFor further information\, please view the conference website: https://www.bps-conf2022.org/
URL:https://brphycsoc.org/event/70th-annual-meeting-of-the-british-phycological-society/
LOCATION:Swansea University\, Singleton Campus\, Swansea\, SA2 8PP\, United Kingdom
CATEGORIES:Annual-Meeting
ATTACH;FMTTYPE=image/jpeg:https://brphycsoc.org/wp-content/uploads/2021/10/Swansea-University-Campus.jpeg
ORGANIZER;CN="John Griffin":MAILTO:bps22swansea@gmail.com
END:VEVENT
END:VCALENDAR