BEGIN:VCALENDAR
VERSION:2.0
PRODID:-//The British Phycological Society - ECPv6.15.20//NONSGML v1.0//EN
CALSCALE:GREGORIAN
METHOD:PUBLISH
X-ORIGINAL-URL:https://brphycsoc.org
X-WR-CALDESC:Events for The British Phycological Society
REFRESH-INTERVAL;VALUE=DURATION:PT1H
X-Robots-Tag:noindex
X-PUBLISHED-TTL:PT1H
BEGIN:VTIMEZONE
TZID:Europe/London
BEGIN:DAYLIGHT
TZOFFSETFROM:+0000
TZOFFSETTO:+0100
TZNAME:BST
DTSTART:20210328T010000
END:DAYLIGHT
BEGIN:STANDARD
TZOFFSETFROM:+0100
TZOFFSETTO:+0000
TZNAME:GMT
DTSTART:20211031T010000
END:STANDARD
BEGIN:DAYLIGHT
TZOFFSETFROM:+0000
TZOFFSETTO:+0100
TZNAME:BST
DTSTART:20220327T010000
END:DAYLIGHT
BEGIN:STANDARD
TZOFFSETFROM:+0100
TZOFFSETTO:+0000
TZNAME:GMT
DTSTART:20221030T010000
END:STANDARD
BEGIN:DAYLIGHT
TZOFFSETFROM:+0000
TZOFFSETTO:+0100
TZNAME:BST
DTSTART:20230326T010000
END:DAYLIGHT
BEGIN:STANDARD
TZOFFSETFROM:+0100
TZOFFSETTO:+0000
TZNAME:GMT
DTSTART:20231029T010000
END:STANDARD
END:VTIMEZONE
BEGIN:VEVENT
DTSTART;TZID=Europe/London:20220310T160000
DTEND;TZID=Europe/London:20220310T180000
DTSTAMP:20260421T231533
CREATED:20220223T142225Z
LAST-MODIFIED:20220223T142339Z
UID:57206-1646928000-1646935200@brphycsoc.org
SUMMARY:Wild SciArt
DESCRIPTION:An annual meeting of marine scientists and artists with an interest in the sea to encourage collaboration. Our inaugural thematic event ‘Art\, Science and Algae’ welcomes a group of creatives that utilise algal research in their practice to speak about their work. Followed by a panel session exploring issues that arise when artists and scientists want to collaborate\, including funding. We will close with an open floor\, encouraging contributions from all participants. \n\n\n\nOur Keynote speaker is Anna Dumitriu. Dumitriu is an internationally renowned British artist who works with BioArt\, sculpture\, installation\, and digital media to explore biology and robotics. \n\n\n\nThe event is hosted by the Scottish Association for Marine Science in Collaboration with the Culture Collection of Algae and Protozoa. \n\n\n\nNamed in honour of oceanographer and illustrator John James Wild\, official artist and secretary of the 1872-76 Challenger Expedition. \n\n\n\nA publication with information about the event and the speakers will also be e-mailed to all that register for the event. \n\n\n\nSchedule \n\n\n\nIntroduction: \n\n\n\nNick Owens (SAMS) \n\n\n\nHost: \n\n\n\nJuliet Brodie (Natural History Museum) \n\n\n\nKeynote Speaker: \n\n\n\nAnna Dumitriu \n\n\n\nSpeakers: \n\n\n\nJessica Giannotti (Crubag) \n\n\n\nSamuel Ilife (The Design Museum) \n\n\n\nAlice Sharp (Invisible Dust) \n\n\n\nMiek Zwamborn (Knockvologon) \n\n\n\nPanel Discussion: \n\n\n\nJulie Platt (SAMS) \n\n\n\nAlice Sharp (Invisible Dust) \n\n\n\nScott Donaldson (Creative Scotland) \n\n\n\nOpen floor session \n\n\n\nHow do I join this event? \n\n\n\nTo join the webinar\, please register on Event Brite. \n\n\n\nOnce you have registered for the event\, we will send you a confirmation email with a Zoom link. \n\n\n\nAccessing is straightforward and we will be presenting using Zoom. As this is an online event\, we recommend you try and join the webinar from a location where you have good quality internet/WiFi connection for a smooth viewing experience. \n\n\n\nYou will have the option to join via the Zoom app or directly on the web. \n\n\n\n… \n\n\n\nEvent FAQs: \n\n\n\nWill I be able to ask questions at this event? \n\n\n\nYes! There are two ways to ask questions. \n\n\n\n1 – There will be a live online Q&A chat function available at all times during the live presentation where you can ask questions and we will do our best to answer them there and then. \n\n\n\n2 – You can engage in the open floor discussion at the end of the event. \n\n\n\nWill this event be recorded and can I access it later? \n\n\n\nYes\, this webinar will be recorded. This is a view only\, anonymous webinar and attendees will not appear on screen. \n\n\n\nMissed this event? Simply click the link to join the webinar and a recording will be available to view. \n\n\n\nWhat about my privacy during the event? \n\n\n\nAttendees’ cameras and microphones are automatically turned off. This is a view only webinar with the function to type any questions throughout. If you do not wish for your name to appear on the webinar chat function\, which all attendees may see if your question is published\, then please join anonymously and do not type your name or any personal details in this function. This event will be recorded and will be available to view at a later time by those who could not attend. The recording and discussion may be shared by participants and audience members with others.
URL:https://brphycsoc.org/event/wild-sciart/
ATTACH;FMTTYPE=image/jpeg:https://brphycsoc.org/wp-content/uploads/2022/02/sams.jpeg
END:VEVENT
END:VCALENDAR