BEGIN:VCALENDAR
VERSION:2.0
PRODID:-//The British Phycological Society - ECPv6.15.20//NONSGML v1.0//EN
CALSCALE:GREGORIAN
METHOD:PUBLISH
X-WR-CALNAME:The British Phycological Society
X-ORIGINAL-URL:https://brphycsoc.org
X-WR-CALDESC:Events for The British Phycological Society
REFRESH-INTERVAL;VALUE=DURATION:PT1H
X-Robots-Tag:noindex
X-PUBLISHED-TTL:PT1H
BEGIN:VTIMEZONE
TZID:Europe/London
BEGIN:DAYLIGHT
TZOFFSETFROM:+0000
TZOFFSETTO:+0100
TZNAME:BST
DTSTART:20220327T010000
END:DAYLIGHT
BEGIN:STANDARD
TZOFFSETFROM:+0100
TZOFFSETTO:+0000
TZNAME:GMT
DTSTART:20221030T010000
END:STANDARD
BEGIN:DAYLIGHT
TZOFFSETFROM:+0000
TZOFFSETTO:+0100
TZNAME:BST
DTSTART:20230326T010000
END:DAYLIGHT
BEGIN:STANDARD
TZOFFSETFROM:+0100
TZOFFSETTO:+0000
TZNAME:GMT
DTSTART:20231029T010000
END:STANDARD
BEGIN:DAYLIGHT
TZOFFSETFROM:+0000
TZOFFSETTO:+0100
TZNAME:BST
DTSTART:20240331T010000
END:DAYLIGHT
BEGIN:STANDARD
TZOFFSETFROM:+0100
TZOFFSETTO:+0000
TZNAME:GMT
DTSTART:20241027T010000
END:STANDARD
END:VTIMEZONE
BEGIN:VEVENT
DTSTART;TZID=Europe/London:20230523T080000
DTEND;TZID=Europe/London:20230525T170000
DTSTAMP:20260419T170302
CREATED:20221125T121721Z
LAST-MODIFIED:20221125T122204Z
UID:57933-1684828800-1685034000@brphycsoc.org
SUMMARY:Young Algaeneers Symposium (YAS 2023)
DESCRIPTION:Are you currently… \n\n\n\n…doing your MSc or PhD……a Post Doctoral researcher……an early stage Principal Investigator or researcher in industry……a young entrepreneur……in the seaweed and/or microalgae area? \n\n\n\nYoung algaeneers\, this event is for you! You really don’t want to miss the 7th edition of the Young Algaeneers Symposium (YAS 2023)! \n\n\n\nScientific expert presentations\, testimonials from business leaders\, interactive discussions… \n\n\n\nAll organized by AND for young algaeneers\, with the support of the EABA – European Algae Biomass Association. \n\n\n\nIn brief\, a unique occasion to shape the future directions of algae research and industry! Save the date of May 23\, 24 and 25.
URL:https://brphycsoc.org/event/young-algaeneers-symposium-yas-2023/
LOCATION:Faro\, Portugal\, Faro\, Portugal
ATTACH;FMTTYPE=image/jpeg:https://brphycsoc.org/wp-content/uploads/2022/11/YAS23_Website-event-page-scaled-1.jpg
END:VEVENT
END:VCALENDAR