BEGIN:VCALENDAR
VERSION:2.0
PRODID:-//The British Phycological Society - ECPv6.15.20//NONSGML v1.0//EN
CALSCALE:GREGORIAN
METHOD:PUBLISH
X-WR-CALNAME:The British Phycological Society
X-ORIGINAL-URL:https://brphycsoc.org
X-WR-CALDESC:Events for The British Phycological Society
REFRESH-INTERVAL;VALUE=DURATION:PT1H
X-Robots-Tag:noindex
X-PUBLISHED-TTL:PT1H
BEGIN:VTIMEZONE
TZID:Europe/London
BEGIN:DAYLIGHT
TZOFFSETFROM:+0000
TZOFFSETTO:+0100
TZNAME:BST
DTSTART:20210328T010000
END:DAYLIGHT
BEGIN:STANDARD
TZOFFSETFROM:+0100
TZOFFSETTO:+0000
TZNAME:GMT
DTSTART:20211031T010000
END:STANDARD
BEGIN:DAYLIGHT
TZOFFSETFROM:+0000
TZOFFSETTO:+0100
TZNAME:BST
DTSTART:20220327T010000
END:DAYLIGHT
BEGIN:STANDARD
TZOFFSETFROM:+0100
TZOFFSETTO:+0000
TZNAME:GMT
DTSTART:20221030T010000
END:STANDARD
BEGIN:DAYLIGHT
TZOFFSETFROM:+0000
TZOFFSETTO:+0100
TZNAME:BST
DTSTART:20230326T010000
END:DAYLIGHT
BEGIN:STANDARD
TZOFFSETFROM:+0100
TZOFFSETTO:+0000
TZNAME:GMT
DTSTART:20231029T010000
END:STANDARD
END:VTIMEZONE
BEGIN:VEVENT
DTSTART;TZID=Europe/London:20220209T080000
DTEND;TZID=Europe/London:20220210T170000
DTSTAMP:20260421T231430
CREATED:20211129T131748Z
LAST-MODIFIED:20211129T131953Z
UID:56505-1644393600-1644512400@brphycsoc.org
SUMMARY:Algaculture for Biotechnology Online Training Course
DESCRIPTION:With continuing Covid19 constraints\, CCAP will once again be delivering their annual CCAP CPD course online\, via MS Teams. The course is aimed at students\, technicians\, early career researchers\, industry professionals and algae enthusiasts. You are invited to register for this unique course comprising: \n\n\n\nShort lectures from our SAMS experts and External speakers on: \n\n\n\nAlgal Biodiversity & TaxonomyNutritionPhotosynthesisMicroalgae Biotechnology: Opportunities and ChallengesMolecular Phycology and BioinformaticsLarge scale microalgal cultureMetabolomics\n\n\n\nPractical Demonstrations by our technical experts on: \n\n\n\nGrowth media preparationStrain IsolationSub-culturingEnumerationCryopreservationCCAP’s algal scale up facility (CCAP-ARIES)\n\n\n\nOpportunities for discussion\, questions and networking will be timetabled. \n\n\n\nPlease note that this course will focus on microalgae. CCAP’s host institute\, the Scottish Association for Marine Science (SAMS) has recently gained funding to open a Seaweed Academy\, which will offer training in macroalgae and the seaweed industry\, in collaboration with CCAP\, in the future. \n\n\n\nFeedback from the online Algaculture for Biotechnology course run in February 2021: “I found it very beneficial to gain exposure to different parts of algal research and how the research are driving development in the industry.” “I personally mostly enjoyed the mixture of talks from the field of research and the hands-on videos. It was a really good mixture. I could not decide which lecture was the most interesting\, the mixture was just really good!” \n\n\n\nThis training is being financially supported by the British Phycological Society (BPS) and Algae-UK\, however\, a fee of £50 to cover costs will be charged. \n\n\n\nSpaces will be limited\, so please apply by 14th of January 2022. To apply please email ccap@sams.ac.uk. Please include the following applicant information: \n\n\n\nYour nameCurrent position & place of work/learningA short paragraph (200 words max) which highlights your research interest and motivation for applying to the coursePlease highlight if you are a member of the British Phycological Society\n\n\n\nUpon confirmation that you have been selected to join the course\, you will be contacted with details for payment. \n\n\n\nBPS Support: We are delighted to announce support from the British Phycological Society. They have agreed to cover some of the participant attendance fees. The CCAP team will make a decision based upon the applicant information provided. If successfully selected\, the BPS will refund your course fee directly. \n\n\n\nAlgae-UK Support: We thank Algae-UK for their contribution towards the running costs of this course.
URL:https://brphycsoc.org/event/algaculture-for-biotechnology-online-training-course/
ATTACH;FMTTYPE=image/jpeg:https://brphycsoc.org/wp-content/uploads/2021/11/CCAP-course-advert-copy-1.jpg
END:VEVENT
BEGIN:VEVENT
DTSTART;TZID=Europe/London:20220225T103000
DTEND;TZID=Europe/London:20220225T170000
DTSTAMP:20260421T231430
CREATED:20220222T212606Z
LAST-MODIFIED:20220222T212851Z
UID:57201-1645785000-1645808400@brphycsoc.org
SUMMARY:Phycoclub Virtual Seminar
DESCRIPTION:Join us on Friday the 25th of February at 10:30 am for a talk by Dr Dale Mclure from the Chemical Engineering Department at Brunel University\, Uxbridge.  \n\n\n\nAs a chemical engineer he has extensive experience in process scale-up and process development. If you have any questions about how process performance can be improved for large-scale bioreactors\, join us for a chat on\, “scaling-up microalgae processes”. \n\n\n\nYou can register using this link https://ucl.zoom.us/meeting/register/tJ0odu-sqzsoHNxGqEndG1kkeW8XCoO9ae2G
URL:https://brphycsoc.org/event/phycoclub/
ATTACH;FMTTYPE=image/png:https://brphycsoc.org/wp-content/uploads/2022/02/Screen-Shot-2022-02-22-at-16.23.50.png
END:VEVENT
END:VCALENDAR