BEGIN:VCALENDAR
VERSION:2.0
PRODID:-//The British Phycological Society - ECPv6.15.20//NONSGML v1.0//EN
CALSCALE:GREGORIAN
METHOD:PUBLISH
X-ORIGINAL-URL:https://brphycsoc.org
X-WR-CALDESC:Events for The British Phycological Society
REFRESH-INTERVAL;VALUE=DURATION:PT1H
X-Robots-Tag:noindex
X-PUBLISHED-TTL:PT1H
BEGIN:VTIMEZONE
TZID:Europe/London
BEGIN:DAYLIGHT
TZOFFSETFROM:+0000
TZOFFSETTO:+0100
TZNAME:BST
DTSTART:20230326T010000
END:DAYLIGHT
BEGIN:STANDARD
TZOFFSETFROM:+0100
TZOFFSETTO:+0000
TZNAME:GMT
DTSTART:20231029T010000
END:STANDARD
BEGIN:DAYLIGHT
TZOFFSETFROM:+0000
TZOFFSETTO:+0100
TZNAME:BST
DTSTART:20240331T010000
END:DAYLIGHT
BEGIN:STANDARD
TZOFFSETFROM:+0100
TZOFFSETTO:+0000
TZNAME:GMT
DTSTART:20241027T010000
END:STANDARD
BEGIN:DAYLIGHT
TZOFFSETFROM:+0000
TZOFFSETTO:+0100
TZNAME:BST
DTSTART:20250330T010000
END:DAYLIGHT
BEGIN:STANDARD
TZOFFSETFROM:+0100
TZOFFSETTO:+0000
TZNAME:GMT
DTSTART:20251026T010000
END:STANDARD
END:VTIMEZONE
BEGIN:VEVENT
DTSTART;TZID=Europe/London:20240608T100000
DTEND;TZID=Europe/London:20240608T130000
DTSTAMP:20260420T003317
CREATED:20240605T151855Z
LAST-MODIFIED:20240605T151900Z
UID:60687-1717840800-1717851600@brphycsoc.org
SUMMARY:Slimewatch 2
DESCRIPTION:Come and join us as we explore the world of Deptford Creek algae! \n\n\n\nDuring the morning we will be exploring the Creek at the edge of our site to take samples of the mud surface and then studying them under high powered microscopes. \n\n\n\nWe expect to find a variety of algae and other organisms which we will record as part of our growing data bank. We’ll be considering questions such as: \n\n\n\n\nhow do these communities relate to the colour of the mud?\n\n\n\nwhat do we know and think about how these communities may change thoughout the day and through different seasons?\n\n\n\nhow does this new awareness of algae make you feel about it?\n\n\n\n\nSpend the morning exploring the mudbanks of the Creek and helping with valuable research into the communities of organisms that live there. As well\, we’ll also be hosting a craft activity to help participants express their creativity inspired by what you’ve explored and studied.  \n\n\n\nDue to the nature of the activities and equipment places are limited\, so book your free tickets now to join what will be a fascinating morning! \n\n\n\nThe Slimewatch project is a Creekside collaboration with filmmaker Susi Arnot who started Slimewatch at Saint Saviours Dock in 2021. \n\n\n\nFor more information see this link and this link!
URL:https://brphycsoc.org/event/slimewatch-2/
LOCATION:Creekside Discovery Center\, 14 Creekside\, Deptford\, London\, SE8 4SA\, United Kingdom
END:VEVENT
BEGIN:VEVENT
DTSTART;TZID=Europe/London:20240620T180000
DTEND;TZID=Europe/London:20240620T200000
DTSTAMP:20260420T003317
CREATED:20240605T152601Z
LAST-MODIFIED:20240605T152713Z
UID:60691-1718906400-1718913600@brphycsoc.org
SUMMARY:Slimewatch Algae Investigation Family Event
DESCRIPTION:Slimewatch algae investigation! Join algae enthusiast and artist Susi to explore the microscopic world of algae! \n\n\n\nIn this special family event we will take a closer look at the green worlds growing in Deptford Creek. Make the most of the long summer evenings to join us for a special wade down in Deptford Creek. There will be lots of fun facts and stories for young people about all the living things in this unique habitat\, and their connections with the green slime all around us!  \n\n\n\nThis event will involve: \n\n\n\n\nA short walk in Deptford Creek focusing on the mud banks and algae\n\n\n\nCollecting and preparing algae sample from the Creek\n\n\n\nAnalysing these samples under the microscope\n\n\n\nObserve and study previous samples and follow our research to date\n\n\n\nMake algae and mud art\, using mud from the river\n\n\n\nModel your own algae to take home with you using clay\n\n\n\n\nSuitable for – everyone aged 8+\, all young people must be accompanied by an adult \n\n\n\nWe will provide all resources and equipment. \n\n\n\nPlease book your space below\, and for any further questions contact paddy@creeksidecentre.org.uk \n\n\n\nSee here for more information.
URL:https://brphycsoc.org/event/slimewatch-algae-investigation-family-event/
LOCATION:Creekside Discovery Center\, 14 Creekside\, Deptford\, London\, SE8 4SA\, United Kingdom
END:VEVENT
END:VCALENDAR