BEGIN:VCALENDAR
VERSION:2.0
PRODID:-//The British Phycological Society - ECPv6.15.20//NONSGML v1.0//EN
CALSCALE:GREGORIAN
METHOD:PUBLISH
X-ORIGINAL-URL:https://brphycsoc.org
X-WR-CALDESC:Events for The British Phycological Society
REFRESH-INTERVAL;VALUE=DURATION:PT1H
X-Robots-Tag:noindex
X-PUBLISHED-TTL:PT1H
BEGIN:VTIMEZONE
TZID:Europe/London
BEGIN:DAYLIGHT
TZOFFSETFROM:+0000
TZOFFSETTO:+0100
TZNAME:BST
DTSTART:20230326T010000
END:DAYLIGHT
BEGIN:STANDARD
TZOFFSETFROM:+0100
TZOFFSETTO:+0000
TZNAME:GMT
DTSTART:20231029T010000
END:STANDARD
BEGIN:DAYLIGHT
TZOFFSETFROM:+0000
TZOFFSETTO:+0100
TZNAME:BST
DTSTART:20240331T010000
END:DAYLIGHT
BEGIN:STANDARD
TZOFFSETFROM:+0100
TZOFFSETTO:+0000
TZNAME:GMT
DTSTART:20241027T010000
END:STANDARD
BEGIN:DAYLIGHT
TZOFFSETFROM:+0000
TZOFFSETTO:+0100
TZNAME:BST
DTSTART:20250330T010000
END:DAYLIGHT
BEGIN:STANDARD
TZOFFSETFROM:+0100
TZOFFSETTO:+0000
TZNAME:GMT
DTSTART:20251026T010000
END:STANDARD
END:VTIMEZONE
BEGIN:VEVENT
DTSTART;TZID=Europe/London:20240721T080000
DTEND;TZID=Europe/London:20240727T170000
DTSTAMP:20260420T020156
CREATED:20231107T121840Z
LAST-MODIFIED:20231107T122625Z
UID:59643-1721548800-1722099600@brphycsoc.org
SUMMARY:XX International Botanical Congress - Madrid\, Spain
DESCRIPTION:As Chair of the International Association of Botanical and Mycological Societies (IABMS) I am trying to help spread news about preparations for the upcoming International Botanical Congress in Madrid\, Spain next year. I am sending this message to representatives of numerous botanical\, mycological and phycological professional societies around the world. I am hoping that you will pass this news along to your members. Apologies to IABMS member organizations who already received this message. \n\n\n\nPlanning for the International Botanical Congress is progressing rapidly and the website includes a great deal of useful information. The IBC will be in Madrid in July 2024. The list of invited speakers is very exciting with a diverse group of individuals from around the world addressing a wide range of subjects of broad interest. The list of excursions is also very exciting with a variety of one day and multi-day excursions planned. \n\n\n\nThe organizers of the IBC are now inviting submissions of abstracts for oral and poster presentations! In addition\, online registration is now open with an early registration discount. \n\n\n\nSee more details on the conference website:https://ibcmadrid2024.com/index.php \n\n\n\nAbstracts \n\n\n\nSee the guidelines for abstract preparation here and the list of 233 accepted symposia here. Prepare your abstract according to the specifications and select 1-3 symposia that are the most appropriate for your presentation. The organizers intend to have abstract acceptance decisions completed before the early registration deadline. \n\n\n\nThe abstract deadline for oral presentations is November 30\, 2023 \n\n\n\nThe deadline for poster abstracts is February 1\, 2024. \n\n\n\nRegistration \n\n\n\nRegister now to receive the early registration discount\, which expires on 29 February 2024. Registration information is found here. \n\n\n\nIf you have not already done so\, I encourage you to sign up for newsletters from the IBC organizers to stay up to date on IBC news. The link for this is on the IBC homepage. \n\n\n\nWith best wishes\, \n\n\n\nPatrick Herendeen\, IABMS Chair \n\n\n\nLinks for guidelines and symposia and registration: \n\n\n\nhttps://ibcmadrid2024.com/index.php?seccion=scientificArea&subSeccion=abstractGuidelines \n\n\n\nhttps://ibcmadrid2024.com/index.php?seccion=scientificArea&subSeccion=symposiums \n\n\n\nhttps://ibcmadrid2024.com/index.php?seccion=registrationArea&subSeccion=registrationInfo
URL:https://brphycsoc.org/event/xx-international-botanical-congress-madrid-spain/
LOCATION:Madrid\, Spain\, Av. del Partenón\, 5\, Madrid\, 28042\, Spain
END:VEVENT
END:VCALENDAR