BEGIN:VCALENDAR
VERSION:2.0
PRODID:-//The British Phycological Society - ECPv6.15.20//NONSGML v1.0//EN
CALSCALE:GREGORIAN
METHOD:PUBLISH
X-ORIGINAL-URL:https://brphycsoc.org
X-WR-CALDESC:Events for The British Phycological Society
REFRESH-INTERVAL;VALUE=DURATION:PT1H
X-Robots-Tag:noindex
X-PUBLISHED-TTL:PT1H
BEGIN:VTIMEZONE
TZID:Europe/London
BEGIN:DAYLIGHT
TZOFFSETFROM:+0000
TZOFFSETTO:+0100
TZNAME:BST
DTSTART:20240331T010000
END:DAYLIGHT
BEGIN:STANDARD
TZOFFSETFROM:+0100
TZOFFSETTO:+0000
TZNAME:GMT
DTSTART:20241027T010000
END:STANDARD
BEGIN:DAYLIGHT
TZOFFSETFROM:+0000
TZOFFSETTO:+0100
TZNAME:BST
DTSTART:20250330T010000
END:DAYLIGHT
BEGIN:STANDARD
TZOFFSETFROM:+0100
TZOFFSETTO:+0000
TZNAME:GMT
DTSTART:20251026T010000
END:STANDARD
BEGIN:DAYLIGHT
TZOFFSETFROM:+0000
TZOFFSETTO:+0100
TZNAME:BST
DTSTART:20260329T010000
END:DAYLIGHT
BEGIN:STANDARD
TZOFFSETFROM:+0100
TZOFFSETTO:+0000
TZNAME:GMT
DTSTART:20261025T010000
END:STANDARD
END:VTIMEZONE
BEGIN:VEVENT
DTSTART;TZID=Europe/London:20251111T223000
DTEND;TZID=Europe/London:20251111T233000
DTSTAMP:20260425T025208
CREATED:20251101T163321Z
LAST-MODIFIED:20251101T163325Z
UID:63466-1762900200-1762903800@brphycsoc.org
SUMMARY:FEMS strategic research initiative
DESCRIPTION:Your voice matters: Help shape the future of microbiology in Europe \n\n\n\nThe Federation of European Microbiological Societies (FEMS) is conducting a survey to better understand the needs and priorities of microbiologists across Europe. We encourage all our members to take part so that our Society’s perspective is well represented. \n\n\n\nBy sharing your views\, you will help identify key challenges in our field\, guide how FEMS can best support the microbiology community\, and ensure our collective voice is heard at the European level. \n\n\n\nThe survey takes about 12 minutes to complete and closes on Tuesday\, 11 November 2025\, 23:00 CET. \n\n\n\nTake part here: https://uk01.l.antigena.com/l/uPbn5XEmy8l1xfBaPjn3l3KiVWdf-AGbCCBBDNLoGIsFobLZT2go2lu_i2v44KgbZA-bX5fjUxBIVUcRAQ9q~gQRg2kgw-SA-ixpdKX5ATAuWVQRoHlNe_W12mWdzBaz8zdsm3YnObP48wGGO_CjKnTFamT3yK4zLptL4tn75Q7QPkJ~jn9dPqBSUtmJZtlnS4B2tm8
URL:https://brphycsoc.org/event/fems-strategic-research-initiative/
END:VEVENT
BEGIN:VEVENT
DTSTART;TZID=Europe/London:20251121T080000
DTEND;TZID=Europe/London:20251121T170000
DTSTAMP:20260425T025208
CREATED:20251119T005259Z
LAST-MODIFIED:20251119T005415Z
UID:63491-1763712000-1763744400@brphycsoc.org
SUMMARY:ERIC-NE Conference
DESCRIPTION:Environmental Records Information Center – North East\n\n\n\nConference 2025 – 21st November 2025* 3.00 – 3.30 Welcome and refreshments* 3.30 – 3.50 Welcome and what’s been going on – Paul Stevens\, ERIC* 3.50 – 4.20 Local Nature Recovery Strategies: an update from Local Authorities. – Local Authority reps* 4.20 – 4.40 A Reflection on the Ancient Woodland Inventory Update – Stephen McAvoy\, ERIC* 4.40 – 5.10 BREAK* 5.10 – 5.30 Towards an Urban Flora for Newcastle and North Tyneside – James Common\, NHSN* 5.30 – 5.50 Biological recording and its importance for marine management and conservation – Nick Brodin\, Berwickshire & Northumberland Marine Nature Partnership* 5.50 – 6.00 Closing Remarks – Paul Stevens\, ERIC \n\n\n\nSign Up: \n\n\n\nhttps://forms.office.com/Pages/ResponsePage.aspx?id=FcqhEsu1GUuv3NfY5HywR9zvHXCyzKBFuLpMrOKONxZUNE1FOE1WVUdYNEM2TFlDR1pFRDVKQ0c1Ui4u
URL:https://brphycsoc.org/event/eric-ne-conference/
END:VEVENT
END:VCALENDAR